BEGIN:VCALENDAR
VERSION:2.0
PRODID:-//www.rouillac.com
X-WR-CALNAME:Rouillac
CALSCALE:GREGORIAN
BEGIN:VTIMEZONE
TZID:Europe/Paris
TZURL:http://tzurl.org/zoneinfo-outlook/Europe/Paris
X-LIC-LOCATION:Europe/Paris
BEGIN:DAYLIGHT
TZOFFSETFROM:+0100
TZOFFSETTO:+0200
TZNAME:CEST
DTSTART:19700329T020000
RRULE:FREQ=YEARLY;BYMONTH=3;BYDAY=-1SU
END:DAYLIGHT
BEGIN:STANDARD
TZOFFSETFROM:+0200
TZOFFSETTO:+0100
TZNAME:CET
DTSTART:19701025T030000
RRULE:FREQ=YEARLY;BYMONTH=10;BYDAY=-1SU
END:STANDARD
END:VTIMEZONE
BEGIN:VEVENT
DTSTAMP:20260423T015714Z
UID:20260423T015714Z-rouillac.com
DTSTART;TZID="Europe/Paris":20120622T143000Z
DTEND;TZID="Europe/Paris":20120622T153000Z
SUMMARY:VENTE ROUILLAC - "L'ÂGE D'OR DE LA PHOTOGRAPHIE"
URL:https://www.rouillac.com/saf1000261
DESCRIPTION:"L'ÂGE D'OR DE LA PHOTOGRAPHIE"\n\nGreniers de l'abbaye\n2, rue de l'abbaye\n41100 Vendôme\n\nhttps://www.rouillac.com/saf1000261\n\nEXPOSITIONS\nPrivées à Paris : jusqu'au 14 juin sur rendez-vous chez l'expert.\nPubliques à Vendôme : Jeudi 21 juin de 14 à 18 heures.\nVendredi 22 juin de 9 à 12 heures.\n\nEXPERT\nMonsieur Yves DI MARIA\nTél. 06 73 39 03 44\nCourriel : yves.dimaria@free.fr\n\nCONTACT\nCourriel : rouillac@rouillac.com\nTél. Vendôme : 02 54 80 24 24\nTél. Paris : 01 45 44 34 34\nFax. : 02 54 77 61 10.\n\nFRAIS 20% HT
LOCATION: Greniers de l'abbaye 2, rue de l'abbaye 41100 Vendôme
BEGIN:VALARM
ACTION:DISPLAY
DESCRIPTION:VENTE ROUILLAC - "L'ÂGE D'OR DE LA PHOTOGRAPHIE"
TRIGGER:-PT15M
END:VALARM
END:VEVENT
END:VCALENDAR