BEGIN:VCALENDAR
VERSION:2.0
PRODID:-//www.rouillac.com
X-WR-CALNAME:Rouillac
CALSCALE:GREGORIAN
BEGIN:VTIMEZONE
TZID:Europe/Paris
TZURL:http://tzurl.org/zoneinfo-outlook/Europe/Paris
X-LIC-LOCATION:Europe/Paris
BEGIN:DAYLIGHT
TZOFFSETFROM:+0100
TZOFFSETTO:+0200
TZNAME:CEST
DTSTART:19700329T020000
RRULE:FREQ=YEARLY;BYMONTH=3;BYDAY=-1SU
END:DAYLIGHT
BEGIN:STANDARD
TZOFFSETFROM:+0200
TZOFFSETTO:+0100
TZNAME:CET
DTSTART:19701025T030000
RRULE:FREQ=YEARLY;BYMONTH=10;BYDAY=-1SU
END:STANDARD
END:VTIMEZONE
BEGIN:VEVENT
DTSTAMP:20260420T095832Z
UID:20260420T095832Z-rouillac.com
DTSTART;TZID="Europe/Paris":20140324T110000Z
DTEND;TZID="Europe/Paris":20140324T120000Z
SUMMARY:VENTE ROUILLAC - ARTS D'ASIE, IVOIRES
URL:https://www.rouillac.com/saf1000315
DESCRIPTION:ARTS D'ASIE, IVOIRES\n\nHôtel de l'Univers\n5, boulevard Heurteloup\n37000 Tours\n\nhttps://www.rouillac.com/saf1000315\n\nEXPOSITIONS PUBLIQUES\nDimanche 23 mars de 15h à 17h.\nLundi 24 mars de 9h30 à 12h.\n\nCONFÉRENCE \n"La Cité Interdite, le Palais d'Été"\nDimanche 23 mars, à 16 heures\n\nCONTACT\nCourriel : rouillac@rouillac.com\nTél.Tours : 02 47 61 22 22 \nTél. Paris : 01 45 44 34 34 \nFax. : 02 54 77 61 10 \n\nPAIEMENT COMPTANT - FRAIS 20% TTC
LOCATION: Hôtel de l'Univers 5, boulevard Heurteloup 37000 Tours
BEGIN:VALARM
ACTION:DISPLAY
DESCRIPTION:VENTE ROUILLAC - ARTS D'ASIE, IVOIRES
TRIGGER:-PT15M
END:VALARM
END:VEVENT
END:VCALENDAR