BEGIN:VCALENDAR
VERSION:2.0
PRODID:-//www.rouillac.com
X-WR-CALNAME:Rouillac
CALSCALE:GREGORIAN
BEGIN:VTIMEZONE
TZID:Europe/Paris
TZURL:http://tzurl.org/zoneinfo-outlook/Europe/Paris
X-LIC-LOCATION:Europe/Paris
BEGIN:DAYLIGHT
TZOFFSETFROM:+0100
TZOFFSETTO:+0200
TZNAME:CEST
DTSTART:19700329T020000
RRULE:FREQ=YEARLY;BYMONTH=3;BYDAY=-1SU
END:DAYLIGHT
BEGIN:STANDARD
TZOFFSETFROM:+0200
TZOFFSETTO:+0100
TZNAME:CET
DTSTART:19701025T030000
RRULE:FREQ=YEARLY;BYMONTH=10;BYDAY=-1SU
END:STANDARD
END:VTIMEZONE
BEGIN:VEVENT
DTSTAMP:20260423T015714Z
UID:20260423T015714Z-rouillac.com
DTSTART;TZID="Europe/Paris":20140331T140000Z
DTEND;TZID="Europe/Paris":20140331T150000Z
SUMMARY:VENTE ROUILLAC - ARCHIVES D'UNE FAMILLE DE FERMIERS-GÉNÉRAUX, CHÂTEAU DE MESLAY
URL:https://www.rouillac.com/saf1000317
DESCRIPTION:ARCHIVES D'UNE FAMILLE DE FERMIERS-GÉNÉRAUX, CHÂTEAU DE MESLAY\n\nHôtel des ventes\nrue Albert Einstein\n41100 Vendôme\n\nhttps://www.rouillac.com/saf1000317\n\nComme souhaité par la famille propriétaire des archives de Meslay, la totalité de ce fonds vient d’être acquise, de gré-à-gré, par le Conseil Général de Loir-et-Cher, aidé par les Archives de France pour la somme de 65.000 €.\n\nMonsieur Hervé Lemoine, directeur du service interministériel des archives de France, nous écrit : « Compte tenu de l’importance historique et de l’intérêt de son acquisition comme ensemble significatif de l’activité juridique de cette famille dans la France d’Ancien Régime, (…) la formule de la vente de gré-à-gré permet de ne pas morceler (cette collection) et de conserver son intégrité. ». Il poursuit : «  Je me réjouis, avec le Conseil général du Loir-et-Cher,que nous puissions mettre en valeur, comme il se doit, un fonds aussi exceptionnel, en lien avec les Archives nationales, qui possèdent aussi d’importantes collections d’imprimés d’Ancien Régime. » Et conclut : « Grâce à vos ventes, des pans importants du patrimoine sont redécouverts et la contribution remarquable des commissaires-priseurs dans l’enrichissement des collections nationales est à souligner. »\n\nEXPOSITIONS\nVendredi 28 mars de 14h à 17h.\nLundi 31 mars de 9h à 11h30.\n\nCONFÉRENCE\nHôtel des Ventes\n"Le Canevas juridique de l'Ancienne France"\nConférence animée par Philippe Rouillac, Lundi 31 mars à 10h.\n\nAvec nos remerciements à Michaël F. pour son aimable concours.
LOCATION: Hôtel des ventes rue Albert Einstein 41100 Vendôme
BEGIN:VALARM
ACTION:DISPLAY
DESCRIPTION:VENTE ROUILLAC - ARCHIVES D'UNE FAMILLE DE FERMIERS-GÉNÉRAUX, CHÂTEAU DE MESLAY
TRIGGER:-PT15M
END:VALARM
END:VEVENT
END:VCALENDAR