BEGIN:VCALENDAR
VERSION:2.0
PRODID:-//www.rouillac.com
X-WR-CALNAME:Rouillac
CALSCALE:GREGORIAN
BEGIN:VTIMEZONE
TZID:Europe/Paris
TZURL:http://tzurl.org/zoneinfo-outlook/Europe/Paris
X-LIC-LOCATION:Europe/Paris
BEGIN:DAYLIGHT
TZOFFSETFROM:+0100
TZOFFSETTO:+0200
TZNAME:CEST
DTSTART:19700329T020000
RRULE:FREQ=YEARLY;BYMONTH=3;BYDAY=-1SU
END:DAYLIGHT
BEGIN:STANDARD
TZOFFSETFROM:+0200
TZOFFSETTO:+0100
TZNAME:CET
DTSTART:19701025T030000
RRULE:FREQ=YEARLY;BYMONTH=10;BYDAY=-1SU
END:STANDARD
END:VTIMEZONE
BEGIN:VEVENT
DTSTAMP:20260420T095833Z
UID:20260420T095833Z-rouillac.com
DTSTART;TZID="Europe/Paris":20210323T140000Z
DTEND;TZID="Europe/Paris":20210323T150000Z
SUMMARY:VENTE ROUILLAC - ARTS D'ASIE
URL:https://www.rouillac.com/saf1000520
DESCRIPTION:ARTS D'ASIE\n\nHôtel des ventes\nrue Albert Einstein\n41100 Vendôme\n\nhttps://www.rouillac.com/saf1000520\n\nEXPOSITIONS PUBLIQUES\nVisite privée sur rendez-vous jusqu'au 19 mars.\nLundi 22 mars de 10h à 12h30 et de 14h à 17h30.\nMardi 23 mars de 10h à 12h.\n\nCONTACT\nCourriel : rouillac@rouillac.com\nTél. : 02 54 80 24 24 \n\nEXPERTS \nCabinet Portier, Alice Jossaume\n26, boulevard Poissonière Paris IXe\nTel. : 01 48 00 03 41 \n\nAymeric de VILLELUME\n45, rue Vineuse 75116 Paris.\nTél : 06 07 72 03 98\nPour les numéros : 203 à 205\n\nFRAIS DE VENTE 24% TTC\n\nENCHÈRES LIVE PLAFONNÉES À 10.000 €\nAu delà, contactez-nous et consignez pour enchérir par téléphone.\n\nConfrontation à la base de données du Art Loss Register \ndes lots dont l’estimation haute est égale ou supérieure à 1.500€.
LOCATION: Hôtel des ventes rue Albert Einstein 41100 Vendôme
BEGIN:VALARM
ACTION:DISPLAY
DESCRIPTION:VENTE ROUILLAC - ARTS D'ASIE
TRIGGER:-PT15M
END:VALARM
END:VEVENT
END:VCALENDAR