BEGIN:VCALENDAR
VERSION:2.0
PRODID:-//www.rouillac.com
X-WR-CALNAME:Rouillac
CALSCALE:GREGORIAN
BEGIN:VTIMEZONE
TZID:Europe/Paris
TZURL:http://tzurl.org/zoneinfo-outlook/Europe/Paris
X-LIC-LOCATION:Europe/Paris
BEGIN:DAYLIGHT
TZOFFSETFROM:+0100
TZOFFSETTO:+0200
TZNAME:CEST
DTSTART:19700329T020000
RRULE:FREQ=YEARLY;BYMONTH=3;BYDAY=-1SU
END:DAYLIGHT
BEGIN:STANDARD
TZOFFSETFROM:+0200
TZOFFSETTO:+0100
TZNAME:CET
DTSTART:19701025T030000
RRULE:FREQ=YEARLY;BYMONTH=10;BYDAY=-1SU
END:STANDARD
END:VTIMEZONE
BEGIN:VEVENT
DTSTAMP:20260420T095832Z
UID:20260420T095832Z-rouillac.com
DTSTART;TZID="Europe/Paris":20210324T140000Z
DTEND;TZID="Europe/Paris":20210324T150000Z
SUMMARY:VENTE ROUILLAC - ANTIQUES et CIVILISATION
URL:https://www.rouillac.com/saf1000521
DESCRIPTION:ANTIQUES et CIVILISATION\n\nHôtel des ventes\nrue Albert Einstein\n41100 Vendôme\n\nhttps://www.rouillac.com/saf1000521\n\nEXPOSITIONS PUBLIQUES\nVisite privée sur rendez-vous jusqu'au 19 mars.\nLundi 22 mars de 10h à 12h30 et de 14h à 17h30.\nMardi 23 mars de 10h à 12h.\nMercredi 24 mars de 10h à 12h.\n\nCONTACT\nCourriel : rouillac@rouillac.com\nTél. : 02 54 80 24 24 \nTél. : 02 47 61 22 22\n\nEXPERTS\nJean-Sylvain CAILLOU \n6, rue de la Paix 41100 Blois\nTel : 06 81 77 95 47 \npour les numéros : 400 à 412, 414 et 415, 430 à 452 453 à 501, 507 et 508, 510 à 515, 534, 537 à 542, 546, 582, 600, 608, 611 et 612, 621, 630 à 632. \n\nMarie-Christine DAVID \n9, rue Montalembert 75007 Paris.\nTél. 01 45 62 27 76\nPour les numéros : 502 à 505, 509, 519 à 523, 529,  543, 545, 560 à 574, 575, 584, 589, 614, 615. \nLots soumis à la consultation du Cabinet MC David Expertises : 535, 536, 544, 549, 577, 580, 585, 586, 588, 609.\n\nAymeric de VILLELUME\n45, rue Vineuse 75116 Paris.\nTél : 06 07 72 03 98\nPour les numéros : 416 et 417, 610 \n\nFRAIS DE VENTE 24% TTC\n\nENCHÈRES LIVE PLAFONNÉES À 10.000 €\nAu delà, contactez-nous et consignez pour enchérir par téléphone.\n\nConfrontation à la base de données du Art Loss Register des lots dont l’estimation haute est égale ou supérieure à 1.500€.
LOCATION: Hôtel des ventes rue Albert Einstein 41100 Vendôme
BEGIN:VALARM
ACTION:DISPLAY
DESCRIPTION:VENTE ROUILLAC - ANTIQUES et CIVILISATION
TRIGGER:-PT15M
END:VALARM
END:VEVENT
END:VCALENDAR