BEGIN:VCALENDAR
VERSION:2.0
PRODID:-//www.rouillac.com
X-WR-CALNAME:Rouillac
CALSCALE:GREGORIAN
BEGIN:VTIMEZONE
TZID:Europe/Paris
TZURL:http://tzurl.org/zoneinfo-outlook/Europe/Paris
X-LIC-LOCATION:Europe/Paris
BEGIN:DAYLIGHT
TZOFFSETFROM:+0100
TZOFFSETTO:+0200
TZNAME:CEST
DTSTART:19700329T020000
RRULE:FREQ=YEARLY;BYMONTH=3;BYDAY=-1SU
END:DAYLIGHT
BEGIN:STANDARD
TZOFFSETFROM:+0200
TZOFFSETTO:+0100
TZNAME:CET
DTSTART:19701025T030000
RRULE:FREQ=YEARLY;BYMONTH=10;BYDAY=-1SU
END:STANDARD
END:VTIMEZONE
BEGIN:VEVENT
DTSTAMP:20260424T051552Z
UID:20260424T051552Z-rouillac.com
DTSTART;TZID="Europe/Paris":20210401T093600Z
DTEND;TZID="Europe/Paris":20210415T143000Z
SUMMARY:VENTE ROUILLAC - TISSUS ANCIENS
URL:https://www.rouillac.com/saf1000522
DESCRIPTION:TISSUS ANCIENS\n\nHôtel des ventes\nrue Albert Einstein\n41100 Vendôme\n\nhttps://www.rouillac.com/saf1000522\n\nEXPOSITIONS PRIVÉES\nSur rendez-vous\n\nCONTACT\nCourriel : rouillac@rouillac.com\n Tél. : 02 54 80 24 24 \n Tél. : 02 47 61 22 22\n\nFRAIS DE VENTE 20% TTC\n\nEXPERT\nMr Aymeric de VILLELUME\nTél : 06 07 72 03 98\n\nCONDITIONS PARTICULIÈRES DES VENTES EN LIGNE\nLa vente se déroule uniquement par voie électronique sur le site rouillac.com. Tout utilisateur dont l'inscription a été préalablement validée par la maison de vente Rouillac peut donc enchérir à distance jusqu'à la fin de la vente.\nA l'issue de la période ouverte pour enchérir, si une enchère a été émise dans les trois dernières minutes, une période additionnelle de trois minutes est ajoutée pour permettre à tout le monde de surenchérir.\n\nConfrontation à la base de données du Art Loss Register \ndes lots dont l’estimation haute est égale ou supérieure à 1.500€.
LOCATION: Hôtel des ventes rue Albert Einstein 41100 Vendôme
BEGIN:VALARM
ACTION:DISPLAY
DESCRIPTION:VENTE ROUILLAC - TISSUS ANCIENS
TRIGGER:-PT15M
END:VALARM
END:VEVENT
END:VCALENDAR