BEGIN:VCALENDAR
VERSION:2.0
PRODID:-//www.rouillac.com
X-WR-CALNAME:Rouillac
CALSCALE:GREGORIAN
BEGIN:VTIMEZONE
TZID:Europe/Paris
TZURL:http://tzurl.org/zoneinfo-outlook/Europe/Paris
X-LIC-LOCATION:Europe/Paris
BEGIN:DAYLIGHT
TZOFFSETFROM:+0100
TZOFFSETTO:+0200
TZNAME:CEST
DTSTART:19700329T020000
RRULE:FREQ=YEARLY;BYMONTH=3;BYDAY=-1SU
END:DAYLIGHT
BEGIN:STANDARD
TZOFFSETFROM:+0200
TZOFFSETTO:+0100
TZNAME:CET
DTSTART:19701025T030000
RRULE:FREQ=YEARLY;BYMONTH=10;BYDAY=-1SU
END:STANDARD
END:VTIMEZONE
BEGIN:VEVENT
DTSTAMP:20260422T041249Z
UID:20260422T041249Z-rouillac.com
DTSTART;TZID="Europe/Paris":20250426T140000Z
DTEND;TZID="Europe/Paris":20250426T150000Z
SUMMARY:VENTE ROUILLAC - VÉHICULES ANCIENS ET MODERNES
URL:https://www.rouillac.com/saf1000625
DESCRIPTION:VÉHICULES ANCIENS ET MODERNES\n\nVente sur place\n3, allée du Bois de l'Orme \n41100 Saint-Ouen\n\nhttps://www.rouillac.com/saf1000625\n\nEXPOSITION PUBLIQUE\nVendredi 25 avril sur rendez-vous\nSamedi 26 avril de 10h à 12h\n\nCONTACT\nCourriel : rouillac@rouillac.com\nTél. : 02 54 80 24 24\n\nFRAIS DE VENTE 24% TTC\n(Si vous êtes professionnel, la TVA peut être récupérable pour les lots 6 à 34)\n\nLIVE UNIQUEMENT SUR INTERENCHERES\nFrais additionnels pour le live Interenchères de\n48 € TTC  de commission par véhicule (du n°1 à 8) et 3,6% TTC pour les autres lots ( du n°15 à 34).\n\nENLEVEMENT SOUS CONDITION D'ENCAISSEMENT DES FONDS :\n- Paiement en espèces limité à 1 000 €\n- Virement instantané (voir conditions avec votre banque)\n- Paiement par chèque accepté accompagné d'une lettre accréditive de banque couvrant le montant\n- CB (voir avec votre banque pour débloquer temporairement votre plafond de paiement).
LOCATION: Vente sur place 3, allée du Bois de l'Orme  41100 Saint-Ouen
BEGIN:VALARM
ACTION:DISPLAY
DESCRIPTION:VENTE ROUILLAC - VÉHICULES ANCIENS ET MODERNES
TRIGGER:-PT15M
END:VALARM
END:VEVENT
END:VCALENDAR