BEGIN:VCALENDAR
VERSION:2.0
PRODID:-//www.rouillac.com
X-WR-CALNAME:Rouillac
CALSCALE:GREGORIAN
BEGIN:VTIMEZONE
TZID:Europe/Paris
TZURL:http://tzurl.org/zoneinfo-outlook/Europe/Paris
X-LIC-LOCATION:Europe/Paris
BEGIN:DAYLIGHT
TZOFFSETFROM:+0100
TZOFFSETTO:+0200
TZNAME:CEST
DTSTART:19700329T020000
RRULE:FREQ=YEARLY;BYMONTH=3;BYDAY=-1SU
END:DAYLIGHT
BEGIN:STANDARD
TZOFFSETFROM:+0200
TZOFFSETTO:+0100
TZNAME:CET
DTSTART:19701025T030000
RRULE:FREQ=YEARLY;BYMONTH=10;BYDAY=-1SU
END:STANDARD
END:VTIMEZONE
BEGIN:VEVENT
DTSTAMP:20260420T054742Z
UID:20260420T054742Z-rouillac.com
DTSTART;TZID="Europe/Paris":20260215T140000Z
DTEND;TZID="Europe/Paris":20260215T150000Z
SUMMARY:VENTE ROUILLAC - BIJOUX d'écrins tourangeaux
URL:https://www.rouillac.com/saf1000639
DESCRIPTION:BIJOUX d'écrins tourangeaux\n\nHôtel de l'Univers\n5, boulevard Heurteloup\n37000 Tours\n\nhttps://www.rouillac.com/saf1000639\n\nEXPOSITIONS PUBLIQUES\nSamedi 14 février de 11h à 12h30 et de 14h à 17h.\nDimanche 15 février 10h à 12h.\n\nConservés dans un coffre en banque, les lots 71 à 113 (montres gousset), 140 à 403 (bijoux) et 500 à 563 (monnaies) sont visibles uniquement sur rendez-vous pris 24h l'avance en l'hôtel des ventes de Vendôme.\n\nEXPERTS\nCabinet PORTIER\n17, rue Drouot, 75009 Paris Tél. 01 47 70 89 82\npour les numéros 141 à 145, 152, 154 à 156, 159, 161, 172, 179 à 181, 185 à 189, 192, 193, 198, 199, 206, 235, 249, 359, 371, 377, et 389. \n\nCONFÉRENCE\n"Le casse du Louvre", par Philippe et Aymeric Rouillac, Samedi 14 février, à 14h30, Hôtel de l'Univers à Tours.\n\nCONTACT\nCourriel : rouillac@rouillac.com\nTél. : 02 54 80 24 24\n\nFRAIS DE VENTE 24% TTC
LOCATION: Hôtel de l'Univers 5, boulevard Heurteloup 37000 Tours
BEGIN:VALARM
ACTION:DISPLAY
DESCRIPTION:VENTE ROUILLAC - BIJOUX d'écrins tourangeaux
TRIGGER:-PT15M
END:VALARM
END:VEVENT
END:VCALENDAR