BEGIN:VCALENDAR
VERSION:2.0
PRODID:-//www.rouillac.com
X-WR-CALNAME:Rouillac
CALSCALE:GREGORIAN
BEGIN:VTIMEZONE
TZID:Europe/Paris
TZURL:http://tzurl.org/zoneinfo-outlook/Europe/Paris
X-LIC-LOCATION:Europe/Paris
BEGIN:DAYLIGHT
TZOFFSETFROM:+0100
TZOFFSETTO:+0200
TZNAME:CEST
DTSTART:19700329T020000
RRULE:FREQ=YEARLY;BYMONTH=3;BYDAY=-1SU
END:DAYLIGHT
BEGIN:STANDARD
TZOFFSETFROM:+0200
TZOFFSETTO:+0100
TZNAME:CET
DTSTART:19701025T030000
RRULE:FREQ=YEARLY;BYMONTH=10;BYDAY=-1SU
END:STANDARD
END:VTIMEZONE
BEGIN:VEVENT
DTSTAMP:20260422T041250Z
UID:20260422T041250Z-rouillac.com
DTSTART;TZID="Europe/Paris":20190629T140000Z
DTEND;TZID="Europe/Paris":20190629T150000Z
SUMMARY:CONFERENCE ROUILLAC - Le Baptême du Christ et sa représentation dans la peinture
URL:https://www.rouillac.com/snf1843
DESCRIPTION:Le Baptême du Christ et sa représentation dans la peinture\n\nConférence par Philippe Rouillac\n\nhttps://www.rouillac.com/snf1843\n\n
LOCATION: Vendôme - Abbatiale-cardinalice de la Trinité
BEGIN:VALARM
ACTION:DISPLAY
DESCRIPTION:CONFERENCE ROUILLAC - Le Baptême du Christ et sa représentation dans la peinture
TRIGGER:-PT15M
END:VALARM
END:VEVENT
END:VCALENDAR