BEGIN:VCALENDAR
VERSION:2.0
PRODID:-//www.rouillac.com
X-WR-CALNAME:Rouillac
CALSCALE:GREGORIAN
BEGIN:VTIMEZONE
TZID:Europe/Paris
TZURL:http://tzurl.org/zoneinfo-outlook/Europe/Paris
X-LIC-LOCATION:Europe/Paris
BEGIN:DAYLIGHT
TZOFFSETFROM:+0100
TZOFFSETTO:+0200
TZNAME:CEST
DTSTART:19700329T020000
RRULE:FREQ=YEARLY;BYMONTH=3;BYDAY=-1SU
END:DAYLIGHT
BEGIN:STANDARD
TZOFFSETFROM:+0200
TZOFFSETTO:+0100
TZNAME:CET
DTSTART:19701025T030000
RRULE:FREQ=YEARLY;BYMONTH=10;BYDAY=-1SU
END:STANDARD
END:VTIMEZONE
BEGIN:VEVENT
DTSTAMP:20260422T041251Z
UID:20260422T041251Z-rouillac.com
DTSTART;TZID="Europe/Paris":20190921T110000Z
DTEND;TZID="Europe/Paris":20190921T120000Z
SUMMARY:CONFERENCE ROUILLAC - Le pipi historique du roi de Rome
URL:https://www.rouillac.com/snf1982
DESCRIPTION:Le pipi historique du roi de Rome\n\nConférence par Philippe Rouillac, dans le cadre des journées européenne du patrimoine.\n\nhttps://www.rouillac.com/snf1982\n\nMe Philipe Rouillac contera cette insolite histoire lors du passage de l’impératrice Marie Louise en 1814, lors des visites organisées avec Mme la sous-préfète Léa Poplin à l’hôtel dit de Prunelé, actuelle sous-préfecture. La visite des salons et salle à manger au décor du  XVIIIè siècle est aussi prévue.\n\nSamedi 21 septembre, à 11h et 15h. Sous-préfecture, place Saint Martin. Dans la limite des places disponibles.
LOCATION: Vendôme - Sous-préfecture, place Saint Martin.
BEGIN:VALARM
ACTION:DISPLAY
DESCRIPTION:CONFERENCE ROUILLAC - Le pipi historique du roi de Rome
TRIGGER:-PT15M
END:VALARM
END:VEVENT
END:VCALENDAR