BEGIN:VCALENDAR
VERSION:2.0
PRODID:-//www.rouillac.com
X-WR-CALNAME:Rouillac
CALSCALE:GREGORIAN
BEGIN:VTIMEZONE
TZID:Europe/Paris
TZURL:http://tzurl.org/zoneinfo-outlook/Europe/Paris
X-LIC-LOCATION:Europe/Paris
BEGIN:DAYLIGHT
TZOFFSETFROM:+0100
TZOFFSETTO:+0200
TZNAME:CEST
DTSTART:19700329T020000
RRULE:FREQ=YEARLY;BYMONTH=3;BYDAY=-1SU
END:DAYLIGHT
BEGIN:STANDARD
TZOFFSETFROM:+0200
TZOFFSETTO:+0100
TZNAME:CET
DTSTART:19701025T030000
RRULE:FREQ=YEARLY;BYMONTH=10;BYDAY=-1SU
END:STANDARD
END:VTIMEZONE
BEGIN:VEVENT
DTSTAMP:20260422T041251Z
UID:20260422T041251Z-rouillac.com
DTSTART;TZID="Europe/Paris":20191114T180000Z
DTEND;TZID="Europe/Paris":20191114T190000Z
SUMMARY:CONFERENCE ROUILLAC - Vernissage et dédicace au ccc-od
URL:https://www.rouillac.com/snf2005
DESCRIPTION:Vernissage et dédicace au ccc-od\n\n. Vernissage de la vente arts + design #3\n. Dédicace du livre "La Saga des Rouillac" par Philippe et Aymeric Rouillac\n\nhttps://www.rouillac.com/snf2005\n\n
LOCATION: ccc-od - centre de création contemporaine Olivier Debré  Jardin François Ier 37000 Tours
BEGIN:VALARM
ACTION:DISPLAY
DESCRIPTION:CONFERENCE ROUILLAC - Vernissage et dédicace au ccc-od
TRIGGER:-PT15M
END:VALARM
END:VEVENT
END:VCALENDAR