BEGIN:VCALENDAR
VERSION:2.0
PRODID:-//www.rouillac.com
X-WR-CALNAME:Rouillac
CALSCALE:GREGORIAN
BEGIN:VTIMEZONE
TZID:Europe/Paris
TZURL:http://tzurl.org/zoneinfo-outlook/Europe/Paris
X-LIC-LOCATION:Europe/Paris
BEGIN:DAYLIGHT
TZOFFSETFROM:+0100
TZOFFSETTO:+0200
TZNAME:CEST
DTSTART:19700329T020000
RRULE:FREQ=YEARLY;BYMONTH=3;BYDAY=-1SU
END:DAYLIGHT
BEGIN:STANDARD
TZOFFSETFROM:+0200
TZOFFSETTO:+0100
TZNAME:CET
DTSTART:19701025T030000
RRULE:FREQ=YEARLY;BYMONTH=10;BYDAY=-1SU
END:STANDARD
END:VTIMEZONE
BEGIN:VEVENT
DTSTAMP:20260421T144759Z
UID:20260421T144759Z-rouillac.com
DTSTART;TZID="Europe/Paris":20221013T190000Z
DTEND;TZID="Europe/Paris":20221013T200000Z
SUMMARY:CONFERENCE ROUILLAC - 120′ pour l’avenir de nos enfants
URL:https://www.rouillac.com/snf3194
DESCRIPTION:120′ pour l’avenir de nos enfants\n\nUne soirée de générosité au profit des enfants défavorisés du monde\n\nhttps://www.rouillac.com/snf3194\n\n
LOCATION: Ampithéâtre Santorin 8, rue d’Athènes 75009 Paris
BEGIN:VALARM
ACTION:DISPLAY
DESCRIPTION:CONFERENCE ROUILLAC - 120′ pour l’avenir de nos enfants
TRIGGER:-PT15M
END:VALARM
END:VEVENT
END:VCALENDAR