BEGIN:VCALENDAR
VERSION:2.0
PRODID:-//www.rouillac.com
X-WR-CALNAME:Rouillac
CALSCALE:GREGORIAN
BEGIN:VTIMEZONE
TZID:Europe/Paris
TZURL:http://tzurl.org/zoneinfo-outlook/Europe/Paris
X-LIC-LOCATION:Europe/Paris
BEGIN:DAYLIGHT
TZOFFSETFROM:+0100
TZOFFSETTO:+0200
TZNAME:CEST
DTSTART:19700329T020000
RRULE:FREQ=YEARLY;BYMONTH=3;BYDAY=-1SU
END:DAYLIGHT
BEGIN:STANDARD
TZOFFSETFROM:+0200
TZOFFSETTO:+0100
TZNAME:CET
DTSTART:19701025T030000
RRULE:FREQ=YEARLY;BYMONTH=10;BYDAY=-1SU
END:STANDARD
END:VTIMEZONE
BEGIN:VEVENT
DTSTAMP:20260421T001105Z
UID:20260421T001105Z-rouillac.com
DTSTART;TZID="Europe/Paris":20221108T180000Z
DTEND;TZID="Europe/Paris":20221108T190000Z
SUMMARY:CONFERENCE ROUILLAC - Calder et Debré : deux monstres sacrés de la création en Touraine
URL:https://www.rouillac.com/snf3255
DESCRIPTION:Calder et Debré : deux monstres sacrés de la création en Touraine\n\nSur inscription au 02 47 61 22 22 ou rouillac@rouillac.com\n\nhttps://www.rouillac.com/snf3255\n\nPrésentation de trois oeuvres de Debré et d'une maquette offerte par Calder avant la vente arts+design #6.\nDécouvrez leur présentation sur TV TOURS\nUne toile de Debré sur  TV Tours
LOCATION: 22, bd Béranger  37000 Tours
BEGIN:VALARM
ACTION:DISPLAY
DESCRIPTION:CONFERENCE ROUILLAC - Calder et Debré : deux monstres sacrés de la création en Touraine
TRIGGER:-PT15M
END:VALARM
END:VEVENT
END:VCALENDAR