BEGIN:VCALENDAR
VERSION:2.0
PRODID:-//www.rouillac.com
X-WR-CALNAME:Rouillac
CALSCALE:GREGORIAN
BEGIN:VTIMEZONE
TZID:Europe/Paris
TZURL:http://tzurl.org/zoneinfo-outlook/Europe/Paris
X-LIC-LOCATION:Europe/Paris
BEGIN:DAYLIGHT
TZOFFSETFROM:+0100
TZOFFSETTO:+0200
TZNAME:CEST
DTSTART:19700329T020000
RRULE:FREQ=YEARLY;BYMONTH=3;BYDAY=-1SU
END:DAYLIGHT
BEGIN:STANDARD
TZOFFSETFROM:+0200
TZOFFSETTO:+0100
TZNAME:CET
DTSTART:19701025T030000
RRULE:FREQ=YEARLY;BYMONTH=10;BYDAY=-1SU
END:STANDARD
END:VTIMEZONE
BEGIN:VEVENT
DTSTAMP:20260423T051843Z
UID:20260423T051843Z-rouillac.com
DTSTART;TZID="Europe/Paris":20231210T150500Z
DTEND;TZID="Europe/Paris":20231210T160500Z
SUMMARY:CONFERENCE ROUILLAC - Familles de légende
URL:https://www.rouillac.com/snf3632
DESCRIPTION:Familles de légende\n\nsur France 2, Charlotte Lassalle\n\nhttps://www.rouillac.com/snf3632\n\nPhilippe et Christine avec leur fils Aymeric Rouillac incarnent le métier de commissaire-priseur dans un épisode de 45 minutes au sein de la série "Familles de légende", diffusé sur France 2 les dimanche 10 décembre 2023 et 22 juin 2025 à 15h05.\nVisionner le reportage sur le site de France 2Rouillac, sous le feu des enchères\nFamilles de légende\nPhilippe Rouillac et son fils, Aymeric, tous deux commissaires-priseurs, sont fiers d’avoir choisi un métier que pourtant, ils n’appelaient pas de leurs vœux. L’un et l’autre ont connu le même changement de destin, tourné vers la famille et la passion des ventes aux enchères.\n\nTout s’est décidé lorsque Philippe Rouillac est tombé gravement malade : impossible pour son fils de laisser péricliter l’œuvre d’une vie. Le père a survécu, le fils est resté : depuis 13 ans, ils travaillent ensemble.\n"Dans cette famille qui compte 7 commissaires-priseurs"Connus pour leur capacité à dénicher des objets rares, ils totalisent à eux deux une quinzaine d’enchères millionnaires : un coffre de Mazarin par exemple, acquis par le Rijksmuseum d’Amsterdam pour la somme de 7,311 millions d’euros ou encore un portrait de Georges Washington vendu plus de 5 millions d’euros. « On a vendu des objets à des prix fous, uniquement car on a donné du rêve. Une vente, c’est 30 % l’objet, 30 % une histoire et 20 % de savoir-faire. »\n\nDans cette famille qui compte 7 commissaires-priseurs, le fils d’Aymeric ambitionne à son tour de travailler à leurs côtés, attiré par un métier qu’aucun écolier ne cite lorsqu’il s’agit de s’inventer un avenir dans la cour de récré.\n\nRouillac, sous le feu des enchères\nFamilles de légende\n\nRéalisé par Charlotte Lassalle\nProduction : Magneto\nDurée : 45 mn\nDiffusé le 10 décembre  2023 sur France 2\nFamilles de légendeCes familles portent pour la plupart des noms qui nous parlent, de près ou de loin. Certaines de ces sagas courent depuis quatre, cinq, sept générations. D’autres sont plus récentes, mais tout aussi intenses, car ces familles ont en commun une volonté : la transmission. De connaissance, de savoir-faire, de patrimoine.\n\nQu’elles appartiennent au monde de l’artisanat, de la musique, du luxe ou de la cuisine, elles nous ouvrent leur porte et leur intimité, leur part de légende familiale.Visionner les différents épisodes sur le site de France2
LOCATION: 
BEGIN:VALARM
ACTION:DISPLAY
DESCRIPTION:CONFERENCE ROUILLAC - Familles de légende
TRIGGER:-PT15M
END:VALARM
END:VEVENT
END:VCALENDAR