BEGIN:VCALENDAR
VERSION:2.0
PRODID:-//www.rouillac.com
X-WR-CALNAME:Rouillac
CALSCALE:GREGORIAN
BEGIN:VTIMEZONE
TZID:Europe/Paris
TZURL:http://tzurl.org/zoneinfo-outlook/Europe/Paris
X-LIC-LOCATION:Europe/Paris
BEGIN:DAYLIGHT
TZOFFSETFROM:+0100
TZOFFSETTO:+0200
TZNAME:CEST
DTSTART:19700329T020000
RRULE:FREQ=YEARLY;BYMONTH=3;BYDAY=-1SU
END:DAYLIGHT
BEGIN:STANDARD
TZOFFSETFROM:+0200
TZOFFSETTO:+0100
TZNAME:CET
DTSTART:19701025T030000
RRULE:FREQ=YEARLY;BYMONTH=10;BYDAY=-1SU
END:STANDARD
END:VTIMEZONE
BEGIN:VEVENT
DTSTAMP:20260423T011648Z
UID:20260423T011648Z-rouillac.com
DTSTART;TZID="Europe/Paris":20100329T000000Z
DTEND;TZID="Europe/Paris":20100329T010000Z
SUMMARY:CONFERENCE ROUILLAC - Colonialisme et Identité nationale
URL:https://www.rouillac.com/snf371
DESCRIPTION:Colonialisme et Identité nationale\n\nDans le cadre de la vente de la bibliothèque Roussier des 30 et 31 mars 2010 : "Colonialisme et Identité nationale" par René NABA, journaliste et écrivain, ancien responsable du monde arabo-musulman à l'Agence France Presse, qui dédicacera ses ouvrages.\n\nhttps://www.rouillac.com/snf371\n\n
LOCATION: Vendôme - Hôtel des ventes
BEGIN:VALARM
ACTION:DISPLAY
DESCRIPTION:CONFERENCE ROUILLAC - Colonialisme et Identité nationale
TRIGGER:-PT15M
END:VALARM
END:VEVENT
END:VCALENDAR