BEGIN:VCALENDAR
VERSION:2.0
PRODID:-//www.rouillac.com
X-WR-CALNAME:Rouillac
CALSCALE:GREGORIAN
BEGIN:VTIMEZONE
TZID:Europe/Paris
TZURL:http://tzurl.org/zoneinfo-outlook/Europe/Paris
X-LIC-LOCATION:Europe/Paris
BEGIN:DAYLIGHT
TZOFFSETFROM:+0100
TZOFFSETTO:+0200
TZNAME:CEST
DTSTART:19700329T020000
RRULE:FREQ=YEARLY;BYMONTH=3;BYDAY=-1SU
END:DAYLIGHT
BEGIN:STANDARD
TZOFFSETFROM:+0200
TZOFFSETTO:+0100
TZNAME:CET
DTSTART:19701025T030000
RRULE:FREQ=YEARLY;BYMONTH=10;BYDAY=-1SU
END:STANDARD
END:VTIMEZONE
BEGIN:VEVENT
DTSTAMP:20260423T051843Z
UID:20260423T051843Z-rouillac.com
DTSTART;TZID="Europe/Paris":20250108T150000Z
DTEND;TZID="Europe/Paris":20250108T160000Z
SUMMARY:CONFERENCE ROUILLAC - Lavinia Fontana au Japon !
URL:https://www.rouillac.com/snf4044
DESCRIPTION:Lavinia Fontana au Japon !\n\nConférence par Aymeric et Philippe Rouillac à l'occasion de la journée d'estimations gratuites du 9 janvier à Loches\n\nhttps://www.rouillac.com/snf4044\n\n
LOCATION: Le Moulin des Cordeliers - 1, quai de la Filature - 37600 Loches
BEGIN:VALARM
ACTION:DISPLAY
DESCRIPTION:CONFERENCE ROUILLAC - Lavinia Fontana au Japon !
TRIGGER:-PT15M
END:VALARM
END:VEVENT
END:VCALENDAR