BEGIN:VCALENDAR
VERSION:2.0
PRODID:-//www.rouillac.com
X-WR-CALNAME:Rouillac
CALSCALE:GREGORIAN
BEGIN:VTIMEZONE
TZID:Europe/Paris
TZURL:http://tzurl.org/zoneinfo-outlook/Europe/Paris
X-LIC-LOCATION:Europe/Paris
BEGIN:DAYLIGHT
TZOFFSETFROM:+0100
TZOFFSETTO:+0200
TZNAME:CEST
DTSTART:19700329T020000
RRULE:FREQ=YEARLY;BYMONTH=3;BYDAY=-1SU
END:DAYLIGHT
BEGIN:STANDARD
TZOFFSETFROM:+0200
TZOFFSETTO:+0100
TZNAME:CET
DTSTART:19701025T030000
RRULE:FREQ=YEARLY;BYMONTH=10;BYDAY=-1SU
END:STANDARD
END:VTIMEZONE
BEGIN:VEVENT
DTSTAMP:20260421T085410Z
UID:20260421T085410Z-rouillac.com
DTSTART;TZID="Europe/Paris":20250206T150000Z
DTEND;TZID="Europe/Paris":20250206T160000Z
SUMMARY:CONFERENCE ROUILLAC - Jeunes découvreurs en Val de Loire
URL:https://www.rouillac.com/snf4048
DESCRIPTION:Jeunes découvreurs en Val de Loire\n\nConférence animée par Aymeric Rouillac avec les A Tours de l'Art\n\nhttps://www.rouillac.com/snf4048\n\nLes mémoires de recherche qu’il dirige depuis 2010 avec des étudiants du master de l’Université de Tours ont été l’occasion d’enquêtes au long cours passionnantes. Ce sont de jeunes chercheurs en Val de Loire qui ont ainsi documenté le premier dessin connu de Gauguin à Orléans, le mobilier de Balzac à Saché, un piano de la reine Marie Antoinette découvert à Villandry, un tableau de plumes méso-américain acheté par le musée des Jacobins à Auch ou des prouesses de l’ingénierie française que sont le premier appareil de cinéma parlant ou le premier micro-ordinateur. À travers des exemples concrets de recherches, ayant abouti ou non, Aymeric Rouillac dévoilera les secrets de fabrication de sa machine à découvrir des trésors. À cette occasion, il présentera l’ouvrage à paraître aux éditions Sutton réunissant les meilleures de ces enquêtes.
LOCATION: Cinéma CGR - 30 Rue Blaise Pascal, 37000 Tours
BEGIN:VALARM
ACTION:DISPLAY
DESCRIPTION:CONFERENCE ROUILLAC - Jeunes découvreurs en Val de Loire
TRIGGER:-PT15M
END:VALARM
END:VEVENT
END:VCALENDAR