BEGIN:VCALENDAR
VERSION:2.0
PRODID:-//www.rouillac.com
X-WR-CALNAME:Rouillac
CALSCALE:GREGORIAN
BEGIN:VTIMEZONE
TZID:Europe/Paris
TZURL:http://tzurl.org/zoneinfo-outlook/Europe/Paris
X-LIC-LOCATION:Europe/Paris
BEGIN:DAYLIGHT
TZOFFSETFROM:+0100
TZOFFSETTO:+0200
TZNAME:CEST
DTSTART:19700329T020000
RRULE:FREQ=YEARLY;BYMONTH=3;BYDAY=-1SU
END:DAYLIGHT
BEGIN:STANDARD
TZOFFSETFROM:+0200
TZOFFSETTO:+0100
TZNAME:CET
DTSTART:19701025T030000
RRULE:FREQ=YEARLY;BYMONTH=10;BYDAY=-1SU
END:STANDARD
END:VTIMEZONE
BEGIN:VEVENT
DTSTAMP:20260421T085408Z
UID:20260421T085408Z-rouillac.com
DTSTART;TZID="Europe/Paris":20250316T150000Z
DTEND;TZID="Europe/Paris":20250316T160000Z
SUMMARY:CONFERENCE ROUILLAC - Concert Conférence - Le grand tableau de la Trinité
URL:https://www.rouillac.com/snf4100
DESCRIPTION:Concert Conférence - Le grand tableau de la Trinité\n\nPrésentation du grand tableau de la Trinité par Philippe Rouillac et concert d'orgue par Damien Serot et hautbois par François Thilly. Entrée libre.\n\nhttps://www.rouillac.com/snf4100\n\n
LOCATION: Abbatiale de la Trinité 3, rue de l'abbaye 41100 Vendôme
BEGIN:VALARM
ACTION:DISPLAY
DESCRIPTION:CONFERENCE ROUILLAC - Concert Conférence - Le grand tableau de la Trinité
TRIGGER:-PT15M
END:VALARM
END:VEVENT
END:VCALENDAR