BEGIN:VCALENDAR
VERSION:2.0
PRODID:-//www.rouillac.com
X-WR-CALNAME:Rouillac
CALSCALE:GREGORIAN
BEGIN:VTIMEZONE
TZID:Europe/Paris
TZURL:http://tzurl.org/zoneinfo-outlook/Europe/Paris
X-LIC-LOCATION:Europe/Paris
BEGIN:DAYLIGHT
TZOFFSETFROM:+0100
TZOFFSETTO:+0200
TZNAME:CEST
DTSTART:19700329T020000
RRULE:FREQ=YEARLY;BYMONTH=3;BYDAY=-1SU
END:DAYLIGHT
BEGIN:STANDARD
TZOFFSETFROM:+0200
TZOFFSETTO:+0100
TZNAME:CET
DTSTART:19701025T030000
RRULE:FREQ=YEARLY;BYMONTH=10;BYDAY=-1SU
END:STANDARD
END:VTIMEZONE
BEGIN:VEVENT
DTSTAMP:20260421T085410Z
UID:20260421T085410Z-rouillac.com
DTSTART;TZID="Europe/Paris":20250506T190000Z
DTEND;TZID="Europe/Paris":20250506T200000Z
SUMMARY:CONFERENCE ROUILLAC - La Nuit du Bien Commun
URL:https://www.rouillac.com/snf4103
DESCRIPTION:La Nuit du Bien Commun\n\n280.000 € de dons récolté pour 10 associations lors de cette soirée animée par Zoé Blutel et Aymeric Rouillac.\n\nhttps://www.rouillac.com/snf4103\n\n
LOCATION: Grand Théâtre -34 Rue de la Scellerie 37000 Tours
BEGIN:VALARM
ACTION:DISPLAY
DESCRIPTION:CONFERENCE ROUILLAC - La Nuit du Bien Commun
TRIGGER:-PT15M
END:VALARM
END:VEVENT
END:VCALENDAR