BEGIN:VCALENDAR
VERSION:2.0
PRODID:-//www.rouillac.com
X-WR-CALNAME:Rouillac
CALSCALE:GREGORIAN
BEGIN:VTIMEZONE
TZID:Europe/Paris
TZURL:http://tzurl.org/zoneinfo-outlook/Europe/Paris
X-LIC-LOCATION:Europe/Paris
BEGIN:DAYLIGHT
TZOFFSETFROM:+0100
TZOFFSETTO:+0200
TZNAME:CEST
DTSTART:19700329T020000
RRULE:FREQ=YEARLY;BYMONTH=3;BYDAY=-1SU
END:DAYLIGHT
BEGIN:STANDARD
TZOFFSETFROM:+0200
TZOFFSETTO:+0100
TZNAME:CET
DTSTART:19701025T030000
RRULE:FREQ=YEARLY;BYMONTH=10;BYDAY=-1SU
END:STANDARD
END:VTIMEZONE
BEGIN:VEVENT
DTSTAMP:20260421T085409Z
UID:20260421T085409Z-rouillac.com
DTSTART;TZID="Europe/Paris":20250913T160000Z
DTEND;TZID="Europe/Paris":20250913T170000Z
SUMMARY:CONFERENCE ROUILLAC - COMMENT REGARDER UN TABLEAU ?
URL:https://www.rouillac.com/snf4305
DESCRIPTION:COMMENT REGARDER UN TABLEAU ?\n\nConférence animée par Philippe Rouillac\nEntrée 4 €\nDans le cadre du salon du 6ème salon des artisans d’art\n\nhttps://www.rouillac.com/snf4305\n\n
LOCATION: Château de Frétay – 41360 Savigny sur Braye
BEGIN:VALARM
ACTION:DISPLAY
DESCRIPTION:CONFERENCE ROUILLAC - COMMENT REGARDER UN TABLEAU ?
TRIGGER:-PT15M
END:VALARM
END:VEVENT
END:VCALENDAR