BEGIN:VCALENDAR
VERSION:2.0
PRODID:-//www.rouillac.com
X-WR-CALNAME:Rouillac
CALSCALE:GREGORIAN
BEGIN:VTIMEZONE
TZID:Europe/Paris
TZURL:http://tzurl.org/zoneinfo-outlook/Europe/Paris
X-LIC-LOCATION:Europe/Paris
BEGIN:DAYLIGHT
TZOFFSETFROM:+0100
TZOFFSETTO:+0200
TZNAME:CEST
DTSTART:19700329T020000
RRULE:FREQ=YEARLY;BYMONTH=3;BYDAY=-1SU
END:DAYLIGHT
BEGIN:STANDARD
TZOFFSETFROM:+0200
TZOFFSETTO:+0100
TZNAME:CET
DTSTART:19701025T030000
RRULE:FREQ=YEARLY;BYMONTH=10;BYDAY=-1SU
END:STANDARD
END:VTIMEZONE
BEGIN:VEVENT
DTSTAMP:20260421T085409Z
UID:20260421T085409Z-rouillac.com
DTSTART;TZID="Europe/Paris":20250920T160000Z
DTEND;TZID="Europe/Paris":20250920T170000Z
SUMMARY:CONFERENCE ROUILLAC - CHOMO (1907-1999)
URL:https://www.rouillac.com/snf4306
DESCRIPTION:CHOMO (1907-1999)\n\nConférence dédicace par Aymeric Rouillac\ndans le cadre de l’Association des amis de Chomo\n\nhttps://www.rouillac.com/snf4306\n\n
LOCATION: Village d’Art Préludien, 24 Rue de Paris-Forêt - 77760 Achères-la-Forêt
BEGIN:VALARM
ACTION:DISPLAY
DESCRIPTION:CONFERENCE ROUILLAC - CHOMO (1907-1999)
TRIGGER:-PT15M
END:VALARM
END:VEVENT
END:VCALENDAR