BEGIN:VCALENDAR
VERSION:2.0
PRODID:-//www.rouillac.com
X-WR-CALNAME:Rouillac
CALSCALE:GREGORIAN
BEGIN:VTIMEZONE
TZID:Europe/Paris
TZURL:http://tzurl.org/zoneinfo-outlook/Europe/Paris
X-LIC-LOCATION:Europe/Paris
BEGIN:DAYLIGHT
TZOFFSETFROM:+0100
TZOFFSETTO:+0200
TZNAME:CEST
DTSTART:19700329T020000
RRULE:FREQ=YEARLY;BYMONTH=3;BYDAY=-1SU
END:DAYLIGHT
BEGIN:STANDARD
TZOFFSETFROM:+0200
TZOFFSETTO:+0100
TZNAME:CET
DTSTART:19701025T030000
RRULE:FREQ=YEARLY;BYMONTH=10;BYDAY=-1SU
END:STANDARD
END:VTIMEZONE
BEGIN:VEVENT
DTSTAMP:20260421T085409Z
UID:20260421T085409Z-rouillac.com
DTSTART;TZID="Europe/Paris":20250920T100000Z
DTEND;TZID="Europe/Paris":20250920T110000Z
SUMMARY:CONFERENCE ROUILLAC - Visite guidée de l'Étoile bleue
URL:https://www.rouillac.com/snf4318
DESCRIPTION:Visite guidée de l'Étoile bleue\n\nVisite guidée avec Brice Langlois\n\nhttps://www.rouillac.com/snf4318\n\nÀ l'occasion des Journées européennes du patrimoine, les 20 et 21 septembre, la Jeune Chambre Économique de Tours (JCET) ouvre les portes de son siège social au 15 rue du Champ de Mars. L'occasion de découvrir ou redécouvrir la dernière maison close de Tours encore conservée.
LOCATION: 15 rue du Champ de Mars 37 000 Tours
BEGIN:VALARM
ACTION:DISPLAY
DESCRIPTION:CONFERENCE ROUILLAC - Visite guidée de l'Étoile bleue
TRIGGER:-PT15M
END:VALARM
END:VEVENT
END:VCALENDAR