BEGIN:VCALENDAR
VERSION:2.0
PRODID:-//www.rouillac.com
X-WR-CALNAME:Rouillac
CALSCALE:GREGORIAN
BEGIN:VTIMEZONE
TZID:Europe/Paris
TZURL:http://tzurl.org/zoneinfo-outlook/Europe/Paris
X-LIC-LOCATION:Europe/Paris
BEGIN:DAYLIGHT
TZOFFSETFROM:+0100
TZOFFSETTO:+0200
TZNAME:CEST
DTSTART:19700329T020000
RRULE:FREQ=YEARLY;BYMONTH=3;BYDAY=-1SU
END:DAYLIGHT
BEGIN:STANDARD
TZOFFSETFROM:+0200
TZOFFSETTO:+0100
TZNAME:CET
DTSTART:19701025T030000
RRULE:FREQ=YEARLY;BYMONTH=10;BYDAY=-1SU
END:STANDARD
END:VTIMEZONE
BEGIN:VEVENT
DTSTAMP:20260421T085410Z
UID:20260421T085410Z-rouillac.com
DTSTART;TZID="Europe/Paris":20250920T100000Z
DTEND;TZID="Europe/Paris":20250920T110000Z
SUMMARY:CONFERENCE ROUILLAC - Tours au XVIIIe siècle vue de la Loire
URL:https://www.rouillac.com/snf4319
DESCRIPTION:Tours au XVIIIe siècle vue de la Loire\n\nD’après un exceptionnel carnet de dessins avec Philippe Rouillac\n\nhttps://www.rouillac.com/snf4319\n\n
LOCATION: Ancienne chapelle Saint-Libert, 37 Avenue André Malraux. 37000 Tours.
BEGIN:VALARM
ACTION:DISPLAY
DESCRIPTION:CONFERENCE ROUILLAC - Tours au XVIIIe siècle vue de la Loire
TRIGGER:-PT15M
END:VALARM
END:VEVENT
END:VCALENDAR