BEGIN:VCALENDAR
VERSION:2.0
PRODID:-//www.rouillac.com
X-WR-CALNAME:Rouillac
CALSCALE:GREGORIAN
BEGIN:VTIMEZONE
TZID:Europe/Paris
TZURL:http://tzurl.org/zoneinfo-outlook/Europe/Paris
X-LIC-LOCATION:Europe/Paris
BEGIN:DAYLIGHT
TZOFFSETFROM:+0100
TZOFFSETTO:+0200
TZNAME:CEST
DTSTART:19700329T020000
RRULE:FREQ=YEARLY;BYMONTH=3;BYDAY=-1SU
END:DAYLIGHT
BEGIN:STANDARD
TZOFFSETFROM:+0200
TZOFFSETTO:+0100
TZNAME:CET
DTSTART:19701025T030000
RRULE:FREQ=YEARLY;BYMONTH=10;BYDAY=-1SU
END:STANDARD
END:VTIMEZONE
BEGIN:VEVENT
DTSTAMP:20260423T044719Z
UID:20260423T044719Z-rouillac.com
DTSTART;TZID="Europe/Paris":20031018T000000Z
DTEND;TZID="Europe/Paris":20031018T010000Z
SUMMARY:CONFERENCE ROUILLAC - Mythe et réalité du Bon Sauvage
URL:https://www.rouillac.com/snf433
DESCRIPTION:Mythe et réalité du Bon Sauvage\n\nL'Afrique dans les arts décoratifs à partir des pendules au Nègre : mythe et réalité du Bon Sauvage.\n\nhttps://www.rouillac.com/snf433\n\n
LOCATION: Blois - Auditorium bibliothèque de l'Abbé Grégoire
BEGIN:VALARM
ACTION:DISPLAY
DESCRIPTION:CONFERENCE ROUILLAC - Mythe et réalité du Bon Sauvage
TRIGGER:-PT15M
END:VALARM
END:VEVENT
END:VCALENDAR