BEGIN:VCALENDAR
VERSION:2.0
PRODID:-//www.rouillac.com
X-WR-CALNAME:Rouillac
CALSCALE:GREGORIAN
BEGIN:VTIMEZONE
TZID:Europe/Paris
TZURL:http://tzurl.org/zoneinfo-outlook/Europe/Paris
X-LIC-LOCATION:Europe/Paris
BEGIN:DAYLIGHT
TZOFFSETFROM:+0100
TZOFFSETTO:+0200
TZNAME:CEST
DTSTART:19700329T020000
RRULE:FREQ=YEARLY;BYMONTH=3;BYDAY=-1SU
END:DAYLIGHT
BEGIN:STANDARD
TZOFFSETFROM:+0200
TZOFFSETTO:+0100
TZNAME:CET
DTSTART:19701025T030000
RRULE:FREQ=YEARLY;BYMONTH=10;BYDAY=-1SU
END:STANDARD
END:VTIMEZONE
BEGIN:VEVENT
DTSTAMP:20260423T015714Z
UID:20260423T015714Z-rouillac.com
DTSTART;TZID="Europe/Paris":20260108T150000Z
DTEND;TZID="Europe/Paris":20260108T160000Z
SUMMARY:CONFERENCE ROUILLAC - Josette Rispal-Chomo : une amitié singulière
URL:https://www.rouillac.com/snf4334
DESCRIPTION:Josette Rispal-Chomo : une amitié singulière\n\nExposition jusqu'au 8 janvier à Paris\n\nhttps://www.rouillac.com/snf4334\n\nA l'occasion de la sortie de l'ouvrage "Josettte Rispal-Chomo : une amitié singulière" (éditons lelivredart) la galerie Les Yeux Fertiles expose le travail des deux créateurs en présentant L'Humanité de Josette Rispal et des Bois brûlés de Chomo.du 27 novembre 2025 au 8 janvier 2025.\n\nVernissage de 15h à 21h.\n\nDe L’Humanité de Josette Rispal aux Bois brûlés de Chomo.\nL’Humanité a été exposée en 2016 pendant neuf mois à l’église de la Madeleine.\nLes Bois brûlés ont été la seule exposition de Chomo, à la galerie Jean Camion, en 1960.
LOCATION: Les Yeux Fertiles 27 Rue de Seine  75006 Paris
BEGIN:VALARM
ACTION:DISPLAY
DESCRIPTION:CONFERENCE ROUILLAC - Josette Rispal-Chomo : une amitié singulière
TRIGGER:-PT15M
END:VALARM
END:VEVENT
END:VCALENDAR