BEGIN:VCALENDAR
VERSION:2.0
PRODID:-//www.rouillac.com
X-WR-CALNAME:Rouillac
CALSCALE:GREGORIAN
BEGIN:VTIMEZONE
TZID:Europe/Paris
TZURL:http://tzurl.org/zoneinfo-outlook/Europe/Paris
X-LIC-LOCATION:Europe/Paris
BEGIN:DAYLIGHT
TZOFFSETFROM:+0100
TZOFFSETTO:+0200
TZNAME:CEST
DTSTART:19700329T020000
RRULE:FREQ=YEARLY;BYMONTH=3;BYDAY=-1SU
END:DAYLIGHT
BEGIN:STANDARD
TZOFFSETFROM:+0200
TZOFFSETTO:+0100
TZNAME:CET
DTSTART:19701025T030000
RRULE:FREQ=YEARLY;BYMONTH=10;BYDAY=-1SU
END:STANDARD
END:VTIMEZONE
BEGIN:VEVENT
DTSTAMP:20260423T015715Z
UID:20260423T015715Z-rouillac.com
DTSTART;TZID="Europe/Paris":20260518T100000Z
DTEND;TZID="Europe/Paris":20260518T110000Z
SUMMARY:CONFERENCE ROUILLAC - Marie Vassilieff de retour à Montparnasse
URL:https://www.rouillac.com/snf4569
DESCRIPTION:Marie Vassilieff de retour à Montparnasse\n\nExposition Pop Up\n\nhttps://www.rouillac.com/snf4569\n\nEntrée libre sur inscription — 01 45 44 34 34Lundi 18 mai : 16h–18h\nMardi 19 mai : 11h–20h\nMercredi 20 mai : 11h–18h\nJeudi 21 mai : 10h–12h\n\nLa collection sera présentée dans son intégralité au 21 avenue du Maine — l'adresse même où Marie Vassilieff accueillit Picasso, Matisse, Modigliani, Léger, Apollinaire et Braque, et où eut lieu le 14 janvier 1917 le célèbre Banquet Braque. Une occasion unique de voir réunies, dans leur lieu d'origine, les œuvres que Claude Bernès a rassemblées pendant cinquante ans.
LOCATION: 21, avenue du Maine 75014 Paris
BEGIN:VALARM
ACTION:DISPLAY
DESCRIPTION:CONFERENCE ROUILLAC - Marie Vassilieff de retour à Montparnasse
TRIGGER:-PT15M
END:VALARM
END:VEVENT
END:VCALENDAR