BEGIN:VCALENDAR
VERSION:2.0
PRODID:-//www.rouillac.com
X-WR-CALNAME:Rouillac
CALSCALE:GREGORIAN
BEGIN:VTIMEZONE
TZID:Europe/Paris
TZURL:http://tzurl.org/zoneinfo-outlook/Europe/Paris
X-LIC-LOCATION:Europe/Paris
BEGIN:DAYLIGHT
TZOFFSETFROM:+0100
TZOFFSETTO:+0200
TZNAME:CEST
DTSTART:19700329T020000
RRULE:FREQ=YEARLY;BYMONTH=3;BYDAY=-1SU
END:DAYLIGHT
BEGIN:STANDARD
TZOFFSETFROM:+0200
TZOFFSETTO:+0100
TZNAME:CET
DTSTART:19701025T030000
RRULE:FREQ=YEARLY;BYMONTH=10;BYDAY=-1SU
END:STANDARD
END:VTIMEZONE
BEGIN:VEVENT
DTSTAMP:20260423T011647Z
UID:20260423T011647Z-rouillac.com
DTSTART;TZID="Europe/Paris":20110319T000000Z
DTEND;TZID="Europe/Paris":20110319T010000Z
SUMMARY:CONFERENCE ROUILLAC - CREUZEVAULT
URL:https://www.rouillac.com/snf472
DESCRIPTION:CREUZEVAULT\n\nDans le cadre de la vente de livres, reliures Creuzevault, à 15h : "... Creuzevault, éditeur et relieur d'art ...".\nHommage à mon oncle, causerie animée par Gilbert Barbara.\n\nhttps://www.rouillac.com/snf472\n\n
LOCATION: Vendôme - Hôtel des ventes
BEGIN:VALARM
ACTION:DISPLAY
DESCRIPTION:CONFERENCE ROUILLAC - CREUZEVAULT
TRIGGER:-PT15M
END:VALARM
END:VEVENT
END:VCALENDAR