BEGIN:VCALENDAR
VERSION:2.0
PRODID:-//www.rouillac.com
X-WR-CALNAME:Rouillac
CALSCALE:GREGORIAN
BEGIN:VTIMEZONE
TZID:Europe/Paris
TZURL:http://tzurl.org/zoneinfo-outlook/Europe/Paris
X-LIC-LOCATION:Europe/Paris
BEGIN:DAYLIGHT
TZOFFSETFROM:+0100
TZOFFSETTO:+0200
TZNAME:CEST
DTSTART:19700329T020000
RRULE:FREQ=YEARLY;BYMONTH=3;BYDAY=-1SU
END:DAYLIGHT
BEGIN:STANDARD
TZOFFSETFROM:+0200
TZOFFSETTO:+0100
TZNAME:CET
DTSTART:19701025T030000
RRULE:FREQ=YEARLY;BYMONTH=10;BYDAY=-1SU
END:STANDARD
END:VTIMEZONE
BEGIN:VEVENT
DTSTAMP:20260423T011645Z
UID:20260423T011645Z-rouillac.com
DTSTART;TZID="Europe/Paris":20121021T000000Z
DTEND;TZID="Europe/Paris":20121021T010000Z
SUMMARY:CONFERENCE ROUILLAC - LES PAYSANS EN PEINTURE
URL:https://www.rouillac.com/snf489
DESCRIPTION:LES PAYSANS EN PEINTURE\n\nDans le cadre des Rendez vous de l'Histoire "Les paysans" : "Les paysans en peinture, de Le Nain à Van Gogh en passant par Millet", conférence animée par Philippe Rouillac à 16h.\n\nhttps://www.rouillac.com/snf489\n\n
LOCATION: Blois - Conseil Général, Place de la République
BEGIN:VALARM
ACTION:DISPLAY
DESCRIPTION:CONFERENCE ROUILLAC - LES PAYSANS EN PEINTURE
TRIGGER:-PT15M
END:VALARM
END:VEVENT
END:VCALENDAR