BEGIN:VCALENDAR
VERSION:2.0
PRODID:-//www.rouillac.com
X-WR-CALNAME:Rouillac
CALSCALE:GREGORIAN
BEGIN:VTIMEZONE
TZID:Europe/Paris
TZURL:http://tzurl.org/zoneinfo-outlook/Europe/Paris
X-LIC-LOCATION:Europe/Paris
BEGIN:DAYLIGHT
TZOFFSETFROM:+0100
TZOFFSETTO:+0200
TZNAME:CEST
DTSTART:19700329T020000
RRULE:FREQ=YEARLY;BYMONTH=3;BYDAY=-1SU
END:DAYLIGHT
BEGIN:STANDARD
TZOFFSETFROM:+0200
TZOFFSETTO:+0100
TZNAME:CET
DTSTART:19701025T030000
RRULE:FREQ=YEARLY;BYMONTH=10;BYDAY=-1SU
END:STANDARD
END:VTIMEZONE
BEGIN:VEVENT
DTSTAMP:20260423T011643Z
UID:20260423T011643Z-rouillac.com
DTSTART;TZID="Europe/Paris":20130214T000000Z
DTEND;TZID="Europe/Paris":20130214T010000Z
SUMMARY:CONFERENCE ROUILLAC - UN GRAND BANQUIER EN SARTHE
URL:https://www.rouillac.com/snf492
DESCRIPTION:UN GRAND BANQUIER EN SARTHE\n\n"Un grand Banquier en Sartrhe sous Napoléon III", conférence animée par Philippe Rouillac à 18h.\n\nhttps://www.rouillac.com/snf492\n\n
LOCATION: Le Mans - Chambre de Commerce et d'Industrie, 1 boulevard Levassor
BEGIN:VALARM
ACTION:DISPLAY
DESCRIPTION:CONFERENCE ROUILLAC - UN GRAND BANQUIER EN SARTHE
TRIGGER:-PT15M
END:VALARM
END:VEVENT
END:VCALENDAR