BEGIN:VCALENDAR
VERSION:2.0
PRODID:-//www.rouillac.com
X-WR-CALNAME:Rouillac
CALSCALE:GREGORIAN
BEGIN:VTIMEZONE
TZID:Europe/Paris
TZURL:http://tzurl.org/zoneinfo-outlook/Europe/Paris
X-LIC-LOCATION:Europe/Paris
BEGIN:DAYLIGHT
TZOFFSETFROM:+0100
TZOFFSETTO:+0200
TZNAME:CEST
DTSTART:19700329T020000
RRULE:FREQ=YEARLY;BYMONTH=3;BYDAY=-1SU
END:DAYLIGHT
BEGIN:STANDARD
TZOFFSETFROM:+0200
TZOFFSETTO:+0100
TZNAME:CET
DTSTART:19701025T030000
RRULE:FREQ=YEARLY;BYMONTH=10;BYDAY=-1SU
END:STANDARD
END:VTIMEZONE
BEGIN:VEVENT
DTSTAMP:20260423T011648Z
UID:20260423T011648Z-rouillac.com
DTSTART;TZID="Europe/Paris":20130914T000000Z
DTEND;TZID="Europe/Paris":20130914T010000Z
SUMMARY:CONFERENCE ROUILLAC - TABLEAU DE PLUMES
URL:https://www.rouillac.com/snf497
DESCRIPTION:TABLEAU DE PLUMES\n\nDans le cadre des Journées du Patrimoine : "Un rare tableau de plumes représentant la Sainte Trinité", conférence animée par Philippe Rouillac, à 15h.\n\nhttps://www.rouillac.com/snf497\n\n
LOCATION: Vendôme - Cloître de l'Abbaye de la Trinité
BEGIN:VALARM
ACTION:DISPLAY
DESCRIPTION:CONFERENCE ROUILLAC - TABLEAU DE PLUMES
TRIGGER:-PT15M
END:VALARM
END:VEVENT
END:VCALENDAR