BEGIN:VCALENDAR
VERSION:2.0
PRODID:-//www.rouillac.com
X-WR-CALNAME:Rouillac
CALSCALE:GREGORIAN
BEGIN:VTIMEZONE
TZID:Europe/Paris
TZURL:http://tzurl.org/zoneinfo-outlook/Europe/Paris
X-LIC-LOCATION:Europe/Paris
BEGIN:DAYLIGHT
TZOFFSETFROM:+0100
TZOFFSETTO:+0200
TZNAME:CEST
DTSTART:19700329T020000
RRULE:FREQ=YEARLY;BYMONTH=3;BYDAY=-1SU
END:DAYLIGHT
BEGIN:STANDARD
TZOFFSETFROM:+0200
TZOFFSETTO:+0100
TZNAME:CET
DTSTART:19701025T030000
RRULE:FREQ=YEARLY;BYMONTH=10;BYDAY=-1SU
END:STANDARD
END:VTIMEZONE
BEGIN:VEVENT
DTSTAMP:20260423T011643Z
UID:20260423T011643Z-rouillac.com
DTSTART;TZID="Europe/Paris":20140119T000000Z
DTEND;TZID="Europe/Paris":20140119T010000Z
SUMMARY:CONFERENCE ROUILLAC - LES PIERRES PRÉCIEUSES
URL:https://www.rouillac.com/snf501
DESCRIPTION:LES PIERRES PRÉCIEUSES\n\nDans le cadre de la vente de Bijoux, Montres, Monnaies Or du 20 janvier 2014 : "Comment protéger vos objets de valeur", conférence animée par le Capitaine Beaume de la direction centrale de la police judiciaire, à 16h.\n\nhttps://www.rouillac.com/snf501\n\n
LOCATION: Tours - Salon de l'Univers
BEGIN:VALARM
ACTION:DISPLAY
DESCRIPTION:CONFERENCE ROUILLAC - LES PIERRES PRÉCIEUSES
TRIGGER:-PT15M
END:VALARM
END:VEVENT
END:VCALENDAR