BEGIN:VCALENDAR
VERSION:2.0
PRODID:-//www.rouillac.com
X-WR-CALNAME:Rouillac
CALSCALE:GREGORIAN
BEGIN:VTIMEZONE
TZID:Europe/Paris
TZURL:http://tzurl.org/zoneinfo-outlook/Europe/Paris
X-LIC-LOCATION:Europe/Paris
BEGIN:DAYLIGHT
TZOFFSETFROM:+0100
TZOFFSETTO:+0200
TZNAME:CEST
DTSTART:19700329T020000
RRULE:FREQ=YEARLY;BYMONTH=3;BYDAY=-1SU
END:DAYLIGHT
BEGIN:STANDARD
TZOFFSETFROM:+0200
TZOFFSETTO:+0100
TZNAME:CET
DTSTART:19701025T030000
RRULE:FREQ=YEARLY;BYMONTH=10;BYDAY=-1SU
END:STANDARD
END:VTIMEZONE
BEGIN:VEVENT
DTSTAMP:20260423T030608Z
UID:20260423T030608Z-rouillac.com
DTSTART;TZID="Europe/Paris":20140318T000000Z
DTEND;TZID="Europe/Paris":20140318T010000Z
SUMMARY:CONFERENCE ROUILLAC - LES FEMMES PEINTRES, TALENTS ET MANIFESTES
URL:https://www.rouillac.com/snf504
DESCRIPTION:LES FEMMES PEINTRES, TALENTS ET MANIFESTES\n\nDans le cadre de l'Université du Temps Libre "Les Femmes peintres, talents et manifestes", conférence animée par Philippe Rouillac à 14h30.\n\nhttps://www.rouillac.com/snf504\n\n
LOCATION: Orléans - CRDP - 55 rue Notre-Dame de la Recouvrance
BEGIN:VALARM
ACTION:DISPLAY
DESCRIPTION:CONFERENCE ROUILLAC - LES FEMMES PEINTRES, TALENTS ET MANIFESTES
TRIGGER:-PT15M
END:VALARM
END:VEVENT
END:VCALENDAR