BEGIN:VCALENDAR
VERSION:2.0
PRODID:-//www.rouillac.com
X-WR-CALNAME:Rouillac
CALSCALE:GREGORIAN
BEGIN:VTIMEZONE
TZID:Europe/Paris
TZURL:http://tzurl.org/zoneinfo-outlook/Europe/Paris
X-LIC-LOCATION:Europe/Paris
BEGIN:DAYLIGHT
TZOFFSETFROM:+0100
TZOFFSETTO:+0200
TZNAME:CEST
DTSTART:19700329T020000
RRULE:FREQ=YEARLY;BYMONTH=3;BYDAY=-1SU
END:DAYLIGHT
BEGIN:STANDARD
TZOFFSETFROM:+0200
TZOFFSETTO:+0100
TZNAME:CET
DTSTART:19701025T030000
RRULE:FREQ=YEARLY;BYMONTH=10;BYDAY=-1SU
END:STANDARD
END:VTIMEZONE
BEGIN:VEVENT
DTSTAMP:20260423T011649Z
UID:20260423T011649Z-rouillac.com
DTSTART;TZID="Europe/Paris":20131219T000000Z
DTEND;TZID="Europe/Paris":20131219T010000Z
SUMMARY:CONFERENCE ROUILLAC - ENRICHISSEZ-VOUS
URL:https://www.rouillac.com/snf508
DESCRIPTION:ENRICHISSEZ-VOUS\n\nPierre de Lauzun, DG délégué de la Fédération bancaire française, auteur de l'Evangile, le Chrétien et l'Argent\nAymeric Rouillac, Commissaire-priseur\nJames Woody, pasteur de l’Église protestante unie de France à l'Oratoire, Président d’Évangile et Liberté, association du protestantisme libéral.\nDébat animé par Christophe Sauzay,responsable de la Fondation des Bernardins, ancien courtier à la City suivi d'un "Christmas Drink" avec les intervenants.\n\nhttps://www.rouillac.com/snf508\n\n
LOCATION: Paris (75005) - Collège des Bernardins - 20 rue de Poissy
BEGIN:VALARM
ACTION:DISPLAY
DESCRIPTION:CONFERENCE ROUILLAC - ENRICHISSEZ-VOUS
TRIGGER:-PT15M
END:VALARM
END:VEVENT
END:VCALENDAR