BEGIN:VCALENDAR
VERSION:2.0
PRODID:-//www.rouillac.com
X-WR-CALNAME:Rouillac
CALSCALE:GREGORIAN
BEGIN:VTIMEZONE
TZID:Europe/Paris
TZURL:http://tzurl.org/zoneinfo-outlook/Europe/Paris
X-LIC-LOCATION:Europe/Paris
BEGIN:DAYLIGHT
TZOFFSETFROM:+0100
TZOFFSETTO:+0200
TZNAME:CEST
DTSTART:19700329T020000
RRULE:FREQ=YEARLY;BYMONTH=3;BYDAY=-1SU
END:DAYLIGHT
BEGIN:STANDARD
TZOFFSETFROM:+0200
TZOFFSETTO:+0100
TZNAME:CET
DTSTART:19701025T030000
RRULE:FREQ=YEARLY;BYMONTH=10;BYDAY=-1SU
END:STANDARD
END:VTIMEZONE
BEGIN:VEVENT
DTSTAMP:20260422T134738Z
UID:20260422T134738Z-rouillac.com
DTSTART;TZID="Europe/Paris":20140425T000000Z
DTEND;TZID="Europe/Paris":20140425T010000Z
SUMMARY:CONFERENCE ROUILLAC - VILLETHIOU ET SON PELERINAGE
URL:https://www.rouillac.com/snf509
DESCRIPTION:VILLETHIOU ET SON PELERINAGE\n\n"Villethiou et son pélerinage", conférence animée par Philippe Rouillac à 20h30.\n\nhttps://www.rouillac.com/snf509\n\n
LOCATION: Saint-Amand-Longpré - Salle des Fêtes
BEGIN:VALARM
ACTION:DISPLAY
DESCRIPTION:CONFERENCE ROUILLAC - VILLETHIOU ET SON PELERINAGE
TRIGGER:-PT15M
END:VALARM
END:VEVENT
END:VCALENDAR