BEGIN:VCALENDAR
VERSION:2.0
PRODID:-//www.rouillac.com
X-WR-CALNAME:Rouillac
CALSCALE:GREGORIAN
BEGIN:VTIMEZONE
TZID:Europe/Paris
TZURL:http://tzurl.org/zoneinfo-outlook/Europe/Paris
X-LIC-LOCATION:Europe/Paris
BEGIN:DAYLIGHT
TZOFFSETFROM:+0100
TZOFFSETTO:+0200
TZNAME:CEST
DTSTART:19700329T020000
RRULE:FREQ=YEARLY;BYMONTH=3;BYDAY=-1SU
END:DAYLIGHT
BEGIN:STANDARD
TZOFFSETFROM:+0200
TZOFFSETTO:+0100
TZNAME:CET
DTSTART:19701025T030000
RRULE:FREQ=YEARLY;BYMONTH=10;BYDAY=-1SU
END:STANDARD
END:VTIMEZONE
BEGIN:VEVENT
DTSTAMP:20260422T134740Z
UID:20260422T134740Z-rouillac.com
DTSTART;TZID="Europe/Paris":20140920T000000Z
DTEND;TZID="Europe/Paris":20140920T010000Z
SUMMARY:CONFERENCE ROUILLAC - LE PATRIMOINE, PIERRE VIVANTE D'AVENIR
URL:https://www.rouillac.com/snf512
DESCRIPTION:LE PATRIMOINE, PIERRE VIVANTE D'AVENIR\n\nDans le cadre des journées européennes du patrimoine, à l'initiative de la fondation du patrimoine en Loir et Cher : "Le patrimoine, pierre vivante d'avenir", témoignage par Philippe Rouillac à 18h00.\n\nhttps://www.rouillac.com/snf512\n\n
LOCATION: Blois - Salon de la Préfecture, Place de la République
BEGIN:VALARM
ACTION:DISPLAY
DESCRIPTION:CONFERENCE ROUILLAC - LE PATRIMOINE, PIERRE VIVANTE D'AVENIR
TRIGGER:-PT15M
END:VALARM
END:VEVENT
END:VCALENDAR